BEGIN:VCALENDAR
VERSION:2.0
PRODID:spatie/icalendar-generator
DESCRIPTION:Veranstaltungen von DJK Darching 1959 e.V.
X-WR-CALDESC:Veranstaltungen von DJK Darching 1959 e.V.
REFRESH-INTERVAL;VALUE=DURATION:PT1440M
X-PUBLISHED-TTL:PT1440M
BEGIN:VTIMEZONE
TZID:Europe/Berlin
BEGIN:STANDARD
DTSTART:20251026T030000Z
TZOFFSETFROM:+0200
TZOFFSETTO:+0100
END:STANDARD
BEGIN:DAYLIGHT
DTSTART:20260329T020000Z
TZOFFSETFROM:+0100
TZOFFSETTO:+0200
END:DAYLIGHT
BEGIN:STANDARD
DTSTART:20261025T030000Z
TZOFFSETFROM:+0200
TZOFFSETTO:+0100
END:STANDARD
END:VTIMEZONE
BEGIN:VTIMEZONE
TZID:UTC
BEGIN:STANDARD
DTSTART:20250726T104904Z
TZOFFSETFROM:+0000
TZOFFSETTO:+0000
END:STANDARD
END:VTIMEZONE
BEGIN:VEVENT
UID:50-46
DTSTAMP:20260422T104904Z
SUMMARY:Pfingstfest 2026
LOCATION:
ORGANIZER;CN=Customer Admin:MAILTO:catha.yoga@outlook.de
DTSTART;TZID=Europe/Berlin;VALUE=DATE:20260521
DTEND;TZID=Europe/Berlin;VALUE=DATE:20260525
X-ALT-DESC;FMTTYPE=TEXT/HTML:
CATEGORIES:General
URL;VALUE=URI:https://djk-darching.de/mc-events/pfingstfest-2026/
METHOD:PUBLISH
END:VEVENT
END:VCALENDAR